BEGIN:VCALENDAR
VERSION:2.0
PRODID:-//Loft 113 - ECPv4.9.8//NONSGML v1.0//EN
CALSCALE:GREGORIAN
METHOD:PUBLISH
X-WR-CALNAME:Loft 113
X-ORIGINAL-URL:https://loft113.es
X-WR-CALDESC:Eventos para Loft 113
BEGIN:VTIMEZONE
TZID:Europe/Madrid
BEGIN:DAYLIGHT
TZOFFSETFROM:+0100
TZOFFSETTO:+0200
TZNAME:CEST
DTSTART:20160327T010000
END:DAYLIGHT
BEGIN:STANDARD
TZOFFSETFROM:+0200
TZOFFSETTO:+0100
TZNAME:CET
DTSTART:20161030T010000
END:STANDARD
BEGIN:DAYLIGHT
TZOFFSETFROM:+0100
TZOFFSETTO:+0200
TZNAME:CEST
DTSTART:20170326T010000
END:DAYLIGHT
BEGIN:STANDARD
TZOFFSETFROM:+0200
TZOFFSETTO:+0100
TZNAME:CET
DTSTART:20171029T010000
END:STANDARD
END:VTIMEZONE
BEGIN:VEVENT
DTSTART;TZID="Europe/Madrid":20161201T200000
DTEND;TZID="Europe/Madrid":20170110T200000
DTSTAMP:20260420T053308
CREATED:20161102T165014Z
LAST-MODIFIED:20161210T195223Z
UID:626-1480622400-1484078400@loft113.es
SUMMARY:Tomy Ceballos: Varios
DESCRIPTION:\n	\n		\n			Tomy Ceballos presenta “Varios” en Loft 113\n\nSon obras diversas\, la mayoría desconocidas en Murcia. Algunas viven un tiempo en las paredes de mi casa o por los rincones\, otras encerradas en el almacén\, las hay que han viajado por las pupilas de las niñas en importantes museos y cruzado mares. Algunas han recibido premios y otras no han salido nunca de casa. Pero todas llevan tiempo sin ver mundo y de alguna manera añoran al público y tienen cosas que contar\, sobre todo sin las miran con los sentidos sentados cómodamente en un sofá con el apoyo logístico de buen vino y música como en el Loft 113 de Marian. \n  \n \n¡Os esperamos! \n\n		\n	\n[vc_empty_space]\n
URL:https://loft113.es/event/tommy-ceballos-varios/
LOCATION:LOFT 113\, Calle Santa Quiteria\, 14\, Murcia\, 30003\, España
CATEGORIES:Arte,Exposición,Fotografía
ATTACH;FMTTYPE=image/jpeg:https://loft113.es/wp-content/uploads/2016/11/who-land-dron.jpg
END:VEVENT
END:VCALENDAR