BEGIN:VCALENDAR
VERSION:2.0
PRODID:-//Loft 113 - ECPv4.9.8//NONSGML v1.0//EN
CALSCALE:GREGORIAN
METHOD:PUBLISH
X-WR-CALNAME:Loft 113
X-ORIGINAL-URL:https://loft113.es
X-WR-CALDESC:Eventos para Loft 113
BEGIN:VTIMEZONE
TZID:Europe/Madrid
BEGIN:DAYLIGHT
TZOFFSETFROM:+0100
TZOFFSETTO:+0200
TZNAME:CEST
DTSTART:20160327T010000
END:DAYLIGHT
BEGIN:STANDARD
TZOFFSETFROM:+0200
TZOFFSETTO:+0100
TZNAME:CET
DTSTART:20161030T010000
END:STANDARD
END:VTIMEZONE
BEGIN:VEVENT
DTSTART;TZID="Europe/Madrid":20161124T203000
DTEND;TZID="Europe/Madrid":20161124T203000
DTSTAMP:20260420T053038
CREATED:20161018T163437Z
LAST-MODIFIED:20161210T122848Z
UID:599-1480019400-1480019400@loft113.es
SUMMARY:Subasta COnRAZONES
DESCRIPTION:\n	\n		\n			COnRAZONES de Juan Belando\nExposición y subasta\nJuan Belando nace en la primavera de 1975 en Murcia viviendo sus primeros 21 años en Los Garres\, entre la Cresta del Gallo y la huerta. Compaginó sus estudios de bachiller con el trabajo familiar dónde aprendió la técnica para modelar el metal.\nDivide su tiempo entre la construcción de estructuras\, el mobiliario metálico y la escultura.\nSu obra está basada fundamentalmente en pensamientos propios con un toque de ironía y sarcasmo. Con un estilo peculiar en sus composiciones\, tiende a mezclar el metal con colores intensos potenciando la expresividad de sus obras.\nAutodidacta y buscador de tiempo seguirá materializando sus pensamientos con la ayuda del metal\, la pintura y cualquier otro elemento que se pueda manipular. \nSUBASTA\nEl día 24 de noviembre a las 20:00 horas se realizará una subasta de las obras expuestas. \n¡Os esperamos! \n \n \n \n\n		\n	\n[vc_empty_space]\n
URL:https://loft113.es/event/conrazones/
LOCATION:LOFT 113\, Calle Santa Quiteria\, 14\, Murcia\, 30003\, España
CATEGORIES:Arte,Exposición
ATTACH;FMTTYPE=image/jpeg:https://loft113.es/wp-content/uploads/2016/10/conrazones-01.jpg
END:VEVENT
END:VCALENDAR